BEGIN:VCALENDAR
VERSION:2.0
PRODID:-//hacksw/handcal//NONSGML v1.0//EN
BEGIN:VEVENT
DTSTAMP:20180927T180000Z
DTSTART:20180927T180000Z
DTEND:20180927T180000Z
LOCATION:Hotel "Haus Niggemann", Wermelskirchener Str. 22-24, Solingen, 42659, Deutschland
SUMMARY:Schloss Burger Gespräch: "Christenverfolgung heute - Ein Blick in die Welt"
END:VEVENT
END:VCALENDAR
