BEGIN:VCALENDAR
VERSION:2.0
PRODID:-//hacksw/handcal//NONSGML v1.0//EN
BEGIN:VEVENT
DTSTAMP:20180705T173000Z
DTSTART:20180705T173000Z
DTEND:20180705T173000Z
LOCATION:Migrapolis-Haus der Vielfalt, Brüdergasse 16-18, Bonn, 53111, Deutschland
SUMMARY:Was unterscheidet das Christentum vom Islam?
END:VEVENT
END:VCALENDAR
