BEGIN:VCALENDAR
VERSION:2.0
PRODID:-//hacksw/handcal//NONSGML v1.0//EN
BEGIN:VEVENT
DTSTAMP:20171103T183000Z
DTSTART:20171103T183000Z
DTEND:20171103T183000Z
SUMMARY:"Wer war Martin Luther?" EAK-Bonn am 3. November 2017
END:VEVENT
END:VCALENDAR
