BEGIN:VCALENDAR
VERSION:2.0
PRODID:-//hacksw/handcal//NONSGML v1.0//EN
BEGIN:VEVENT
DTSTAMP:20251101T080000Z
DTSTART:20251101T080000Z
DTEND:20251101T150000Z
LOCATION:Wilnsdorf-Wilgersdorf, Dornhecke 28, Wilnsdorf, 57234, Deutschland
SUMMARY:39. Landesdelegiertentagung: Internationale Verantwortung
END:VEVENT
END:VCALENDAR
